BEGIN:VCALENDAR
VERSION:2.0
PRODID:-//Prince William County Democrats - ECPv6.15.20//NONSGML v1.0//EN
CALSCALE:GREGORIAN
METHOD:PUBLISH
X-ORIGINAL-URL:https://www.princewilliamdemocrats.com
X-WR-CALDESC:Events for Prince William County Democrats
REFRESH-INTERVAL;VALUE=DURATION:PT1H
X-Robots-Tag:noindex
X-PUBLISHED-TTL:PT1H
BEGIN:VTIMEZONE
TZID:UTC
BEGIN:STANDARD
TZOFFSETFROM:+0000
TZOFFSETTO:+0000
TZNAME:UTC
DTSTART:20200101T000000
END:STANDARD
END:VTIMEZONE
BEGIN:VEVENT
DTSTART;TZID=UTC:20210921T140000
DTEND;TZID=UTC:20210921T170000
DTSTAMP:20260422T104000
CREATED:20210917T032857Z
LAST-MODIFIED:20210917T032857Z
UID:10001017-1632232800-1632243600@www.princewilliamdemocrats.com
SUMMARY:Board of County Supervisors Meeting
DESCRIPTION:Board Of County Supervisors –  PWC Website (More Info Click Here) \n\nMeetings are at 2pm and 7:30pm (times and dates may change\, please check link above and agenda)\n\nSign Up To Speak (More Info Click Here) \n*Note: To sign up to speak virtually the deadline is the day before the meeting (Monday) at 5pm\, if you attend the meeting in person you can sign up the day of. \nPage Resources Include The Following \n\nLive Video\, Brief & Archives (More Info Click Here)\n\nBoard Agenda\nAgenda\nBriefs\nVideo Podcast\nArchive\n\n\nCurrent Agenda\nSpeak Up! Prince William\nMeeting Schedule\nDistrict Map\nRules of Procedures\nStatement of Economic Interest\nSign Up for eNotifications\nWho are Your Elected Officials\n\n*Because changes can occur\, please navigate to the above links for the most up to date times\, locations\, agendas and details about meetings.
URL:https://www.princewilliamdemocrats.com/event/2021-09-21-2pm-board-of-county-supervisors-meeting-2/
LOCATION:McCoart\, 1 County Complex Ct\, Woodbridge\, VA\, 22192\, United States
CATEGORIES:Prince William County Supervisor Event
ATTACH;FMTTYPE=image/png:https://www.princewilliamdemocrats.com/wp-content/uploads/2021/03/pwc-bocs-meetings.png
END:VEVENT
BEGIN:VEVENT
DTSTART;TZID=UTC:20210921T170000
DTEND;TZID=UTC:20210921T190000
DTSTAMP:20260422T104000
CREATED:20210921T144710Z
LAST-MODIFIED:20210921T144734Z
UID:10001019-1632243600-1632250800@www.princewilliamdemocrats.com
SUMMARY:Early Vote Rally and Canvass Launch with former Congresswoman Gabby Giffords!
DESCRIPTION:For More Details: Click Here \nJoin team Michelle Maldonado\, team Danica Roem\, team Elizabeth Guzman and team Briana Sewell for a joint canvass kickoff and early vote rally with special guest former Congresswoman Gabby Giffords in Manassas at 5pm on Tuesday September 21st! \nWe hope to see you there to support our amazing slate of Democratic candidates in the area as we talk to voters about the issues that matter! \nThe rally will take place at Baldwin Park/Manassas Museum Lawn in Old Town Manassas located at 9101 Prince William Street. There is free parking available in the Public Parking Garage across the street at 9102 Prince William Street
URL:https://www.princewilliamdemocrats.com/event/2021-09-21-5pm-early-vote-rally-and-canvass-launch-with-former-congresswoman-gabby-giffords/
LOCATION:Baldwin Park\, 9101 Prince William St\, Manassas\, VA\, 20110\, United States
CATEGORIES:Prince William County Elections
ATTACH;FMTTYPE=image/jpeg:https://www.princewilliamdemocrats.com/wp-content/uploads/2021/09/2021-canvas-launch-gabby-giffords.jpeg
END:VEVENT
END:VCALENDAR