BEGIN:VCALENDAR
VERSION:2.0
PRODID:-//Prince William County Democrats - ECPv6.15.20//NONSGML v1.0//EN
CALSCALE:GREGORIAN
METHOD:PUBLISH
X-ORIGINAL-URL:https://www.princewilliamdemocrats.com
X-WR-CALDESC:Events for Prince William County Democrats
REFRESH-INTERVAL;VALUE=DURATION:PT1H
X-Robots-Tag:noindex
X-PUBLISHED-TTL:PT1H
BEGIN:VTIMEZONE
TZID:UTC
BEGIN:STANDARD
TZOFFSETFROM:+0000
TZOFFSETTO:+0000
TZNAME:UTC
DTSTART:20200101T000000
END:STANDARD
END:VTIMEZONE
BEGIN:VEVENT
DTSTART;TZID=UTC:20210916T183000
DTEND;TZID=UTC:20210916T200000
DTSTAMP:20260422T092101
CREATED:20210917T014944Z
LAST-MODIFIED:20210917T014944Z
UID:10001212-1631817000-1631822400@www.princewilliamdemocrats.com
SUMMARY:Briana Sewell Fundraiser
DESCRIPTION:Please join Rep. Wexton & Sen. McClellan for a fundraiser in support of Briana Sewell for Delegate!\n\n  \nJoin Congresswoman Jennifer Wexton and Senator Jennifer McClellan for a fundraiser in support of Briana Sewell\, who is the Democratic nominee for Delegate in VA’s 51st District. \nDATE: Thursday\, September 16th\, 2021 \nTIME: 6:30-8:00pm \nLOCATION: Cedar Run Brewery \nADDRESS: 12801 Hazelwood Dr\, Nokesville\, VA 20181 \nHosts Congresswoman Jennifer Wexton\, Senator McClellan\, and others are pleased to invite you to an evening in support of Briana Sewell. \nPlease contact Carissa at carissa@sewellfordelegate.com with any questions or to join the growing host committee. \nDISCLAIMER: Congresswoman Jennifer Wexton is appearing at this event only as a special guest. They are not asking for funds or donations.
URL:https://www.princewilliamdemocrats.com/event/2021-09-16-630pm-briana-sewell-fundraiser/
LOCATION:Cedar Run Brewery\, 12801 Hazelwood Dr.\, Nokesville\, VA\, 20181\, United States
CATEGORIES:Prince William County Democratic Event
ATTACH;FMTTYPE=image/jpeg:https://www.princewilliamdemocrats.com/wp-content/uploads/2021/09/2021-briana-sewel-fundraiser.jpg
END:VEVENT
END:VCALENDAR