BEGIN:VCALENDAR
VERSION:2.0
PRODID:-//Prince William County Democrats - ECPv6.15.20//NONSGML v1.0//EN
CALSCALE:GREGORIAN
METHOD:PUBLISH
X-WR-CALNAME:Prince William County Democrats
X-ORIGINAL-URL:https://www.princewilliamdemocrats.com
X-WR-CALDESC:Events for Prince William County Democrats
REFRESH-INTERVAL;VALUE=DURATION:PT1H
X-Robots-Tag:noindex
X-PUBLISHED-TTL:PT1H
BEGIN:VTIMEZONE
TZID:UTC
BEGIN:STANDARD
TZOFFSETFROM:+0000
TZOFFSETTO:+0000
TZNAME:UTC
DTSTART:20200101T000000
END:STANDARD
END:VTIMEZONE
BEGIN:VEVENT
DTSTART;TZID=UTC:20210911T090000
DTEND;TZID=UTC:20210911T100000
DTSTAMP:20260422T091828
CREATED:20210831T161004Z
LAST-MODIFIED:20210831T161022Z
UID:10001192-1631350800-1631354400@www.princewilliamdemocrats.com
SUMMARY:Neabsco District Monthly Meeting
DESCRIPTION:Please contact Neabsco District Leadership for additional details.
URL:https://www.princewilliamdemocrats.com/event/2021-09-11-9am-neabsco-district-monthly-meeting/
LOCATION:Virtual Event
CATEGORIES:District Meeting
ATTACH;FMTTYPE=image/jpeg:https://www.princewilliamdemocrats.com/wp-content/uploads/2021/02/democratic-monthly-meeting.jpg
END:VEVENT
BEGIN:VEVENT
DTSTART;TZID=UTC:20210911T100000
DTEND;TZID=UTC:20210911T130000
DTSTAMP:20260422T091828
CREATED:20210831T153625Z
LAST-MODIFIED:20210831T153644Z
UID:10001174-1631354400-1631365200@www.princewilliamdemocrats.com
SUMMARY:Canvass with Team Maldonado!
DESCRIPTION:Come join Team Michelle Maldonado as we talk to voters across the 50th district to help elect her to the Virginia House of Delegates. A small training will take place before we hit the doors. We will be launching from Harris Pavilion in Manassas located at 9201 Center St\, Manassas\, VA 20110 \nLook for the folks with clipboards and yard signs!
URL:https://www.princewilliamdemocrats.com/event/2021-09-11-10am-canvass-with-team-maldonado/
LOCATION:Harris Pavilion\, 9201 Center St.\, Manassas\, VA\, 20110\, United States
CATEGORIES:Prince William County Delegate Event
ATTACH;FMTTYPE=image/jpeg:https://www.princewilliamdemocrats.com/wp-content/uploads/2021/08/2021-canvass-with-team-maldonado.jpeg
END:VEVENT
BEGIN:VEVENT
DTSTART;TZID=UTC:20210911T130000
DTEND;TZID=UTC:20210911T160000
DTSTAMP:20260422T091828
CREATED:20210831T153958Z
LAST-MODIFIED:20210831T154017Z
UID:10001175-1631365200-1631376000@www.princewilliamdemocrats.com
SUMMARY:Canvass with Team Maldonado!
DESCRIPTION:Come join Team Michelle Maldonado as we talk to voters across the 50th district to help elect her to the Virginia House of Delegates. A small training will take place before we hit the doors. We will be launching from Harris Pavilion in Manassas located at 9201 Center St\, Manassas\, VA 20110 \nLook for the folks with clipboards and yard signs!
URL:https://www.princewilliamdemocrats.com/event/2021-09-11-1pm-canvass-with-team-maldonado/
LOCATION:Harris Pavilion\, 9201 Center St.\, Manassas\, VA\, 20110\, United States
CATEGORIES:Prince William County Delegate Event
ATTACH;FMTTYPE=image/jpeg:https://www.princewilliamdemocrats.com/wp-content/uploads/2021/08/2021-canvass-with-team-maldonado.jpeg
END:VEVENT
END:VCALENDAR