BEGIN:VCALENDAR
VERSION:2.0
PRODID:-//Prince William County Democrats - ECPv6.15.20//NONSGML v1.0//EN
CALSCALE:GREGORIAN
METHOD:PUBLISH
X-WR-CALNAME:Prince William County Democrats
X-ORIGINAL-URL:https://www.princewilliamdemocrats.com
X-WR-CALDESC:Events for Prince William County Democrats
REFRESH-INTERVAL;VALUE=DURATION:PT1H
X-Robots-Tag:noindex
X-PUBLISHED-TTL:PT1H
BEGIN:VTIMEZONE
TZID:UTC
BEGIN:STANDARD
TZOFFSETFROM:+0000
TZOFFSETTO:+0000
TZNAME:UTC
DTSTART:20200101T000000
END:STANDARD
END:VTIMEZONE
BEGIN:VEVENT
DTSTART;TZID=UTC:20210617T183000
DTEND;TZID=UTC:20210617T193000
DTSTAMP:20260422T144146
CREATED:20210617T111847Z
LAST-MODIFIED:20210617T111930Z
UID:10001124-1623954600-1623958200@www.princewilliamdemocrats.com
SUMMARY:The Future of Transit Virtual Town Hall with Supervisors Victor Angry and Kenny Boddye
DESCRIPTION:To Register: Click Here\n\nAll things transit! A study taking a fresh look at bringing Metro to PWC. OmniRide enhancements. Federal transportation funding. More…\n\n\n\n\n\n\nAbout this event \n\n\nJoin Supervisors Kenny Boddye (Occoquan District) and Victor Angry (Neabsco District) for a panel discussion on the future of transit in our region. The two districts share transportation corridors\, including the Potomac Mills area\, which is being studied as a possible location for Metro. Taking an “all of above” approach to transit\, the panel will discuss: \n\nThe Department of Rail & Public Transportation (DRPT) “Springfield to Quantico Enhanced Public Transportation Feasibility Study\, which includes a fresh look at bringing Metro to Woodbridge\nConsiderations for Bus Rapid Transit in Neabsco and Occoquan Districts\nThe proposed Federal transportation package\, and what it could mean for Prince William\nMaximizing the potential of the County’s OmniRide transit service\n\nThe Supervisors will be joined by US Congressman Gerry Connolly\, Virginia Senator Scott Surovell\, DRPT Chief of Public Transportation Jennifer DeBruhl\, OmniRide Executive Director Bob Schneider and PWC DOT Director Rick Canizales. \nDuring the registration process\, you may submit questions and share ideas in advance. Participants who log into YouTube can also participate in a moderated chat during the event.
URL:https://www.princewilliamdemocrats.com/event/2021-06-17-630pm-the-future-of-transit-virtual-town-hall-with-supervisors-victor-angry-and-kenny-boddye/
LOCATION:Virtual Event
CATEGORIES:Prince William County Event
ATTACH;FMTTYPE=image/jpeg:https://www.princewilliamdemocrats.com/wp-content/uploads/2021/06/2021-future-of-transit-virtual-town-hall.jpg
END:VEVENT
BEGIN:VEVENT
DTSTART;TZID=UTC:20210617T193000
DTEND;TZID=UTC:20210617T203000
DTSTAMP:20260422T144146
CREATED:20210211T171356Z
LAST-MODIFIED:20210617T112432Z
UID:10001011-1623958200-1623961800@www.princewilliamdemocrats.com
SUMMARY:Coles District Monthly Meeting
DESCRIPTION:Please contact Coles District Leadership for additional details.
URL:https://www.princewilliamdemocrats.com/event/2021-06-12-930am-coles-district-monthly-meeting/
CATEGORIES:District Meeting
ATTACH;FMTTYPE=image/jpeg:https://www.princewilliamdemocrats.com/wp-content/uploads/2021/02/democratic-monthly-meeting.jpg
END:VEVENT
END:VCALENDAR