BEGIN:VCALENDAR
VERSION:2.0
PRODID:-//Prince William County Democrats - ECPv6.15.20//NONSGML v1.0//EN
CALSCALE:GREGORIAN
METHOD:PUBLISH
X-ORIGINAL-URL:https://www.princewilliamdemocrats.com
X-WR-CALDESC:Events for Prince William County Democrats
REFRESH-INTERVAL;VALUE=DURATION:PT1H
X-Robots-Tag:noindex
X-PUBLISHED-TTL:PT1H
BEGIN:VTIMEZONE
TZID:UTC
BEGIN:STANDARD
TZOFFSETFROM:+0000
TZOFFSETTO:+0000
TZNAME:UTC
DTSTART:20200101T000000
END:STANDARD
END:VTIMEZONE
BEGIN:VEVENT
DTSTART;TZID=UTC:20210606T120000
DTEND;TZID=UTC:20210606T140000
DTSTAMP:20260422T144237
CREATED:20210602T001057Z
LAST-MODIFIED:20210602T001057Z
UID:10000962-1622980800-1622988000@www.princewilliamdemocrats.com
SUMMARY:Prince William County Get Out The Vote Rally With Hala Ayala and Danica Roem
DESCRIPTION:For More Details: Click Here \nIt’s officially Get Out the Vote and Hala is excited to have her close friend and colleague\, Del. Danica Roem\, joining her for a Get Out the Vote Rally and Canvass Kick-Off in her home county. Come out to show Hala your love just before election day!
URL:https://www.princewilliamdemocrats.com/event/2021-06-06-12pm-prince-william-county-get-out-the-vote-rally-with-hala-ayala/
LOCATION:McCoart\, 1 County Complex Ct\, Woodbridge\, VA\, 22192\, United States
CATEGORIES:Prince William County Elections
ATTACH;FMTTYPE=image/png:https://www.princewilliamdemocrats.com/wp-content/uploads/2021/06/2021-prince-william-county-get-out-vote-hala-ayala.png
END:VEVENT
BEGIN:VEVENT
DTSTART;TZID=UTC:20210606T120000
DTEND;TZID=UTC:20210606T150000
DTSTAMP:20260422T144237
CREATED:20210605T233548Z
LAST-MODIFIED:20210605T233648Z
UID:10000972-1622980800-1622991600@www.princewilliamdemocrats.com
SUMMARY:Prince William County Get Out the Vote Rally & Canvass Launch NARAL & Latino Victory Fund
DESCRIPTION:For More Details: Click Here \nIt’s officially Get Out the Vote and Hala is excited to have NARAL & Latino Victory Fund\, joining her for a Get Out the Vote Rally and Canvass Kick-Off in her home county. Come out to show Hala your love just before election day!
URL:https://www.princewilliamdemocrats.com/event/2021-06-06-12pm-prince-william-county-get-out-the-vote-rally-canvass-launch-naral-latino-victory-fund/
CATEGORIES:Prince William County Elections
ATTACH;FMTTYPE=image/png:https://www.princewilliamdemocrats.com/wp-content/uploads/2021/06/2021-hala-prince-william-county-get-out-and-vote.png
END:VEVENT
BEGIN:VEVENT
DTSTART;TZID=UTC:20210606T170000
DTEND;TZID=UTC:20210606T180000
DTSTAMP:20260422T144237
CREATED:20210605T190838Z
LAST-MODIFIED:20210605T190838Z
UID:10000970-1622998800-1623002400@www.princewilliamdemocrats.com
SUMMARY:Pre-primary Happy Hour
DESCRIPTION:For More Details: Click Here \nJoin us this Sunday June 3rd for a pre-primary happy hour. This event will be held over Zoom and the link will be sent to you after purchase of a ticket. We look forward to seeing you there as the primary comes to a close. Here is the link to get your ticket: https://secure.actblue.com/donate/idrishappyhour
URL:https://www.princewilliamdemocrats.com/event/pre-primary-happy-hour/
LOCATION:Virtual Event
CATEGORIES:Prince William County Elections
ATTACH;FMTTYPE=image/jpeg:https://www.princewilliamdemocrats.com/wp-content/uploads/2021/06/2021-idris-sign-up-for-happy-hour.jpg
END:VEVENT
END:VCALENDAR