BEGIN:VCALENDAR
VERSION:2.0
PRODID:-//Prince William County Democrats - ECPv6.15.20//NONSGML v1.0//EN
CALSCALE:GREGORIAN
METHOD:PUBLISH
X-WR-CALNAME:Prince William County Democrats
X-ORIGINAL-URL:https://www.princewilliamdemocrats.com
X-WR-CALDESC:Events for Prince William County Democrats
REFRESH-INTERVAL;VALUE=DURATION:PT1H
X-Robots-Tag:noindex
X-PUBLISHED-TTL:PT1H
BEGIN:VTIMEZONE
TZID:UTC
BEGIN:STANDARD
TZOFFSETFROM:+0000
TZOFFSETTO:+0000
TZNAME:UTC
DTSTART:20200101T000000
END:STANDARD
END:VTIMEZONE
BEGIN:VEVENT
DTSTART;TZID=UTC:20210530T140000
DTEND;TZID=UTC:20210530T170000
DTSTAMP:20260422T154655
CREATED:20210602T002126Z
LAST-MODIFIED:20210602T002141Z
UID:10000964-1622383200-1622394000@www.princewilliamdemocrats.com
SUMMARY:GOTV Canvass With Idris
DESCRIPTION:For More Details: Click Here \nJoin us as we are volunteering this weekend to reach voters about our progressive campaign. Snacks & water will be provided. We will be following CDC protocols for the event. #PeopleProsperityProgress
URL:https://www.princewilliamdemocrats.com/event/2021-05-30-2pm-gotv-canvass-with-idris/
LOCATION:Rosa Parks Elementary School\, 13446 Princedale Dr\, Woodbridge\, VA\, 22193\, United States
CATEGORIES:Prince William County Elections
ATTACH;FMTTYPE=image/jpeg:https://www.princewilliamdemocrats.com/wp-content/uploads/2021/06/idris-oconnor-event.jpg
END:VEVENT
END:VCALENDAR