BEGIN:VCALENDAR
VERSION:2.0
PRODID:-//Prince William County Democrats - ECPv6.15.20//NONSGML v1.0//EN
CALSCALE:GREGORIAN
METHOD:PUBLISH
X-ORIGINAL-URL:https://www.princewilliamdemocrats.com
X-WR-CALDESC:Events for Prince William County Democrats
REFRESH-INTERVAL;VALUE=DURATION:PT1H
X-Robots-Tag:noindex
X-PUBLISHED-TTL:PT1H
BEGIN:VTIMEZONE
TZID:UTC
BEGIN:STANDARD
TZOFFSETFROM:+0000
TZOFFSETTO:+0000
TZNAME:UTC
DTSTART:20200101T000000
END:STANDARD
END:VTIMEZONE
BEGIN:VEVENT
DTSTART;TZID=UTC:20210512T180000
DTEND;TZID=UTC:20210512T190000
DTSTAMP:20260422T160240
CREATED:20210428T001841Z
LAST-MODIFIED:20210428T002131Z
UID:10000942-1620842400-1620846000@www.princewilliamdemocrats.com
SUMMARY:The Hala Express goes to Dumfries with Selonia Miles
DESCRIPTION:The Hala Express is coming to Dumfries! Join Councilwoman Selonia Miles and Hala for a discussion on what’s at stake in this election and a chance to ask Hala your burning questions. This event is open to the public and Virginian’s outside of Dumfries are welcome to join!
URL:https://www.princewilliamdemocrats.com/event/2021-05-12-6pm-the-hala-express-goes-to-dumfries-with-selonia-miles/
LOCATION:Virtual Event
CATEGORIES:Prince William County Elections
ATTACH;FMTTYPE=image/png:https://www.princewilliamdemocrats.com/wp-content/uploads/2021/04/2021-hala-express-goes-to-dumfries.png
END:VEVENT
BEGIN:VEVENT
DTSTART;TZID=UTC:20210512T190000
DTEND;TZID=UTC:20210512T200000
DTSTAMP:20260422T160240
CREATED:20210512T160359Z
LAST-MODIFIED:20210512T165703Z
UID:10001106-1620846000-1620849600@www.princewilliamdemocrats.com
SUMMARY:Democratic Governor Candidate Forum
DESCRIPTION:To View And Register For Event: Click Here \n\n\n\nTonight 7pm  Democratic Gov. Candidate Forum hosted by the Democratic Latino Organization of Virginia\, the Democratic Black Caucus of Virginia\, the Democratic Asian Americans of Virginia (registration link & more below ): \n\n\n\n“Communities of color make up 40% of the Commonwealth of Virginia\, but our communities have not had the opportunity to have their questions and voices heard by the Democratic candidates for statewide office. With this in mind\, the Democratic Latino Organization of Virginia (DLOV)\, Democratic Asian Americans of Virginia (DAAV)\, and the Democratic Black Caucus of Virginia (DBCV)\, collectively known as the Tri-Caucus\, invite you to our joint forum for the candidates seeking the Democratic nomination for Governor.” \n\n\n\nRegister for this online forum here: \n\n\n\nhttps://zoom.us/web…/register/WN_f3YVGHJKS920CbiudoduDQ… \n\n\n\nFollow the accounts of our Virginia Tri-Caucus! https://www.facebook.com/vademlatinos/https://www.facebook.com/DemBlackCaucusVA/https://www.facebook.com/DemocraticAsianAmericans/
URL:https://www.princewilliamdemocrats.com/event/2021-05-12-7pm-democratic-governor-candidate-forum/
LOCATION:Virtual Event
CATEGORIES:Virginia Event
ATTACH;FMTTYPE=image/jpeg:https://www.princewilliamdemocrats.com/wp-content/uploads/2021/05/2021-democratic-governor-candidate-forum.jpg
END:VEVENT
END:VCALENDAR