BEGIN:VCALENDAR
VERSION:2.0
PRODID:-//Prince William County Democrats - ECPv6.15.20//NONSGML v1.0//EN
CALSCALE:GREGORIAN
METHOD:PUBLISH
X-WR-CALNAME:Prince William County Democrats
X-ORIGINAL-URL:https://www.princewilliamdemocrats.com
X-WR-CALDESC:Events for Prince William County Democrats
REFRESH-INTERVAL;VALUE=DURATION:PT1H
X-Robots-Tag:noindex
X-PUBLISHED-TTL:PT1H
BEGIN:VTIMEZONE
TZID:UTC
BEGIN:STANDARD
TZOFFSETFROM:+0000
TZOFFSETTO:+0000
TZNAME:UTC
DTSTART:20200101T000000
END:STANDARD
END:VTIMEZONE
BEGIN:VEVENT
DTSTART;TZID=UTC:20210508T090000
DTEND;TZID=UTC:20210508T100000
DTSTAMP:20260422T154655
CREATED:20210504T160537Z
LAST-MODIFIED:20210504T160639Z
UID:10000946-1620464400-1620468000@www.princewilliamdemocrats.com
SUMMARY:Neabsco District Monthly Meeting
DESCRIPTION:Please contact Neabsco District Leadership for additional details.
URL:https://www.princewilliamdemocrats.com/event/2021-05-08-9am-neabsco-district-monthly-meeting/
LOCATION:Virtual Event
CATEGORIES:District Meeting
ATTACH;FMTTYPE=image/jpeg:https://www.princewilliamdemocrats.com/wp-content/uploads/2021/02/democratic-monthly-meeting.jpg
END:VEVENT
BEGIN:VEVENT
DTSTART;TZID=UTC:20210508T093000
DTEND;TZID=UTC:20210508T103000
DTSTAMP:20260422T154655
CREATED:20210504T161110Z
LAST-MODIFIED:20210504T161512Z
UID:10000947-1620466200-1620469800@www.princewilliamdemocrats.com
SUMMARY:Coles District Monthly Meeting
DESCRIPTION:Please contact Coles District Leadership for additional details.
URL:https://www.princewilliamdemocrats.com/event/2021-05-08-930am-coles-district-monthly-meeting/
LOCATION:Virtual Event
CATEGORIES:District Meeting
ATTACH;FMTTYPE=image/jpeg:https://www.princewilliamdemocrats.com/wp-content/uploads/2021/02/democratic-monthly-meeting.jpg
END:VEVENT
BEGIN:VEVENT
DTSTART;TZID=UTC:20210508T100000
DTEND;TZID=UTC:20210508T140000
DTSTAMP:20260422T154655
CREATED:20210505T030214Z
LAST-MODIFIED:20210505T030425Z
UID:10001098-1620468000-1620482400@www.princewilliamdemocrats.com
SUMMARY:Stepping Out Of COVID - Walking Into Wellness
DESCRIPTION:Join us for a Mental Health Awareness 5K Walk this weekend! Click link below to register. This event is free and open to the public. \nClick link to register: \nhttps://tinyurl.com/pwc5kmh
URL:https://www.princewilliamdemocrats.com/event/2021-05-08-10am-stepping-out-of-covid-walking-into-wellness/
CATEGORIES:Prince William County Event
ATTACH;FMTTYPE=image/png:https://www.princewilliamdemocrats.com/wp-content/uploads/2021/05/2021-stepping-out-of-covid-walking-into-wellness.png
END:VEVENT
BEGIN:VEVENT
DTSTART;TZID=UTC:20210508T120000
DTEND;TZID=UTC:20210508T130000
DTSTAMP:20260422T154655
CREATED:20210505T025243Z
LAST-MODIFIED:20210505T025243Z
UID:10001096-1620475200-1620478800@www.princewilliamdemocrats.com
SUMMARY:Leadership Prince William Presents: Community Conversation Series
DESCRIPTION:Meeting Registration: Click Here \nTo learn about the current state of Affordable Housing in Northern Virginia and what is being done about it\, please join us\,\nSATURDAY\, MAY 8th at NOON \n  \nWebinar Panelists: \nCASANDRA C. MONROE | Housing Chair\, Prince William County NAACP \nMICHELLE MCDONOUGH WINTERS | Executive Director of the Alliance for Housing Solutions \nPATRICIA JOHANSON | Executive Director\, Good Shepherd Housing Foundation \nNORA DALY\, MPH\, MSW | Director of Programs & Community Engagement Northern Virginia Affordable Housing Alliance \nDR. ANDREA WILSON | Social Services Advisory Board \n 
URL:https://www.princewilliamdemocrats.com/event/2021-05-08-12pm-leadership-prince-william-presents-community-conversation-series/
LOCATION:Virtual Event
CATEGORIES:Prince William County Event
ATTACH;FMTTYPE=image/png:https://www.princewilliamdemocrats.com/wp-content/uploads/2021/05/2021-affordable-housing-in-northern-virginia.png
END:VEVENT
END:VCALENDAR