BEGIN:VCALENDAR
VERSION:2.0
PRODID:-//Prince William County Democrats - ECPv6.15.20//NONSGML v1.0//EN
CALSCALE:GREGORIAN
METHOD:PUBLISH
X-ORIGINAL-URL:https://www.princewilliamdemocrats.com
X-WR-CALDESC:Events for Prince William County Democrats
REFRESH-INTERVAL;VALUE=DURATION:PT1H
X-Robots-Tag:noindex
X-PUBLISHED-TTL:PT1H
BEGIN:VTIMEZONE
TZID:UTC
BEGIN:STANDARD
TZOFFSETFROM:+0000
TZOFFSETTO:+0000
TZNAME:UTC
DTSTART:20200101T000000
END:STANDARD
END:VTIMEZONE
BEGIN:VEVENT
DTSTART;TZID=UTC:20210506T193000
DTEND;TZID=UTC:20210506T203000
DTSTAMP:20260422T154758
CREATED:20210504T153848Z
LAST-MODIFIED:20210505T142407Z
UID:10000944-1620329400-1620333000@www.princewilliamdemocrats.com
SUMMARY:A Special Truth\, Love and Grit Conversation with Dr. Ivonne Wallace Fuentes & Del. Sam Rasoul
DESCRIPTION:Dear Friends\,\n\nPlease join Delegate Sam Rasoul for Lt. Governor of VA & Dr. Ivonne Wallace Fuentes for a special Mother’s Day conversation on May 6\, 2021 at 7:30 PM ET to discuss the importance of revitalizing and restoring women in the workforce with the bold progressive policy proposed by Sam called the VA Marshall Plan for Moms. Women have been disproportionately impacted both emotionally and economically by the pandemic\, especially women of color. In 2020\, more than 2 million women left the labor force. Women are now at their lowest workforce-participation level since 1988.(1) Dr. Ivonne noted that when the pandemic hit and schools closed\, it became clear that our country relies on women as the fail-safe safety net. COVID has brought to light the inequities that exist for women in this country. For true economic recovery to happen\, we must take action now to revitalize and restore women in the workforce. Moms deserve more than flowers this Mother’s Day\, women deserve true economic justice. Please submit your questions to Katherine@sam4va.com – if you have a personal story of how this pandemic impacted you\, please contact Katherine White at 703-597-2047. Or you can also email me at Katherine@Sam4va.com. The event will also be streamed live on Facebook.\n\nThank you\,\nKatherine White\n\n\nMore Details: Click Here
URL:https://www.princewilliamdemocrats.com/event/2021-05-06-730pm-special-truth-conversation-with-sam-rasoul/
LOCATION:Virtual Event
CATEGORIES:Prince William County Event
ATTACH;FMTTYPE=image/jpeg:https://www.princewilliamdemocrats.com/wp-content/uploads/2021/05/2021-special-truth-conversation-with-sam-rasoul.jpg
END:VEVENT
END:VCALENDAR