BEGIN:VCALENDAR
VERSION:2.0
PRODID:-//Prince William County Democrats - ECPv6.15.20//NONSGML v1.0//EN
CALSCALE:GREGORIAN
METHOD:PUBLISH
X-ORIGINAL-URL:https://www.princewilliamdemocrats.com
X-WR-CALDESC:Events for Prince William County Democrats
REFRESH-INTERVAL;VALUE=DURATION:PT1H
X-Robots-Tag:noindex
X-PUBLISHED-TTL:PT1H
BEGIN:VTIMEZONE
TZID:UTC
BEGIN:STANDARD
TZOFFSETFROM:+0000
TZOFFSETTO:+0000
TZNAME:UTC
DTSTART:20200101T000000
END:STANDARD
END:VTIMEZONE
BEGIN:VEVENT
DTSTART;TZID=UTC:20210501T100000
DTEND;TZID=UTC:20210501T104500
DTSTAMP:20260422T154757
CREATED:20210419T015456Z
LAST-MODIFIED:20210419T020456Z
UID:10001080-1619863200-1619865900@www.princewilliamdemocrats.com
SUMMARY:2021 PWC State Delegation Virtual Candidate Forum - HOD2
DESCRIPTION:PWCDC VIRTUAL CANDIDATE FORUM\nSaturday – May 1\, 2021\n10:00 AM – 10:45 AM\n\nLT Pridgen is inviting you to a scheduled Zoom meeting. \nTopic: PWCDC Virtual Candidate Forum\nTime: May 1\, 2021\, 09:45 AM Eastern Time (US and Canada)\nZOOM LINK\nMeeting ID: 349 121 6167\nPasscode: 201737\nOne tap mobile\n+19294362866\,\,3491216167#\,\,\,\,*201737# US (New York)\n+13017158592\,\,3491216167#\,\,\,\,*201737# US (Washington DC)
URL:https://www.princewilliamdemocrats.com/event/2021-05-01-10am-pwc-state-delegation-virtual-candidate-forum/
LOCATION:Virtual Event
CATEGORIES:Prince William County Democratic Event
ATTACH;FMTTYPE=image/png:https://www.princewilliamdemocrats.com/wp-content/uploads/2021/04/2021-pwc-state-delegation-virtual-candidate-forum-hod2.png
END:VEVENT
BEGIN:VEVENT
DTSTART;TZID=UTC:20210501T110000
DTEND;TZID=UTC:20210501T123000
DTSTAMP:20260422T154757
CREATED:20210419T020511Z
LAST-MODIFIED:20210419T020536Z
UID:10001081-1619866800-1619872200@www.princewilliamdemocrats.com
SUMMARY:2021 PWC State Delegation Virtual Candidate Forum - HOD31
DESCRIPTION:PWCDC VIRTUAL CANDIDATE FORUM\nSaturday – May 1\, 2021\n11:00 AM – 12:30 PM\n\nLT Pridgen is inviting you to a scheduled Zoom meeting. \nTopic: PWCDC Virtual Candidate Forum\nTime: May 1\, 2021\, 09:45 AM Eastern Time (US and Canada)\nZOOM LINK\nMeeting ID: 349 121 6167\nPasscode: 201737\nOne tap mobile\n+19294362866\,\,3491216167#\,\,\,\,*201737# US (New York)\n+13017158592\,\,3491216167#\,\,\,\,*201737# US (Washington DC)
URL:https://www.princewilliamdemocrats.com/event/2021-05-01-11am-pwc-state-delegation-virtual-candidate-forum-hod31/
LOCATION:Virtual Event
CATEGORIES:Prince William County Democratic Event
ATTACH;FMTTYPE=image/png:https://www.princewilliamdemocrats.com/wp-content/uploads/2021/04/2021-pwc-state-delegation-virtual-candidate-forum-hod31.png
END:VEVENT
BEGIN:VEVENT
DTSTART;TZID=UTC:20210501T130000
DTEND;TZID=UTC:20210501T140000
DTSTAMP:20260422T154757
CREATED:20210419T020739Z
LAST-MODIFIED:20210419T020739Z
UID:10001082-1619874000-1619877600@www.princewilliamdemocrats.com
SUMMARY:2021 PWC State Delegation Virtual Candidate Forum - HOD50
DESCRIPTION:PWCDC VIRTUAL CANDIDATE FORUM\nSaturday – May 1\, 2021\n1:00 PM – 2:00 PM\n\nLT Pridgen is inviting you to a scheduled Zoom meeting. \nTopic: PWCDC Virtual Candidate Forum\nTime: May 1\, 2021\, 09:45 AM Eastern Time (US and Canada)\nZOOM LINK\nMeeting ID: 349 121 6167\nPasscode: 201737\nOne tap mobile\n+19294362866\,\,3491216167#\,\,\,\,*201737# US (New York)\n+13017158592\,\,3491216167#\,\,\,\,*201737# US (Washington DC)
URL:https://www.princewilliamdemocrats.com/event/2021-05-01-1pm-pwc-state-delegation-virtual-candidate-forum-hod50/
CATEGORIES:Prince William County Democratic Event
ATTACH;FMTTYPE=image/png:https://www.princewilliamdemocrats.com/wp-content/uploads/2021/04/2021-pwc-state-delegation-virtual-candidate-forum-hod50.png
END:VEVENT
BEGIN:VEVENT
DTSTART;TZID=UTC:20210501T130000
DTEND;TZID=UTC:20210501T170000
DTSTAMP:20260422T154757
CREATED:20210427T001018Z
LAST-MODIFIED:20210427T001018Z
UID:10001089-1619874000-1619888400@www.princewilliamdemocrats.com
SUMMARY:Canvass and Lit Drop with Idris
DESCRIPTION:Our campaign is knocking on doors and lit dropping this weekend with Idris to keep the momentum going to reach voters about our progressive campaign. Our campaign is fighting for working class Virginians who need a voice in Richmond at Rosa Parks Elementary School 13446 Princedale Dr\, Woodbridge\, VA 22193. The event is Saturday May 1 and Sunday May 2 at 1pm to 5pm.\n\nHere is the link to sign up to canvass and lit drop\nhttps://www.mobilize.us/idrisoconnorfordelegate/event/386433/
URL:https://www.princewilliamdemocrats.com/event/2021-05-01-1pm-canvass-and-lit-drop-with-idris/
LOCATION:Rosa Parks Elementary School\, 13446 Princedale Dr\, Woodbridge\, VA\, 22193\, United States
CATEGORIES:Prince William County Elections
ATTACH;FMTTYPE=image/png:https://www.princewilliamdemocrats.com/wp-content/uploads/2021/04/idris-canvass-and-lit-drop.png
END:VEVENT
END:VCALENDAR