BEGIN:VCALENDAR
VERSION:2.0
PRODID:-//Prince William County Democrats - ECPv6.15.20//NONSGML v1.0//EN
CALSCALE:GREGORIAN
METHOD:PUBLISH
X-ORIGINAL-URL:https://www.princewilliamdemocrats.com
X-WR-CALDESC:Events for Prince William County Democrats
REFRESH-INTERVAL;VALUE=DURATION:PT1H
X-Robots-Tag:noindex
X-PUBLISHED-TTL:PT1H
BEGIN:VTIMEZONE
TZID:UTC
BEGIN:STANDARD
TZOFFSETFROM:+0000
TZOFFSETTO:+0000
TZNAME:UTC
DTSTART:20200101T000000
END:STANDARD
END:VTIMEZONE
BEGIN:VEVENT
DTSTART;TZID=UTC:20210422T173000
DTEND;TZID=UTC:20210422T193000
DTSTAMP:20260423T010828
CREATED:20210323T224522Z
LAST-MODIFIED:20210323T224825Z
UID:10001069-1619112600-1619119800@www.princewilliamdemocrats.com
SUMMARY:Virginia Equality - 18th Annual Virtual Commonwealth Dinner
DESCRIPTION:Equality Virginia is hosting their annual Commonwealth dinner virtually on April 22 from 5:30-7:30pm. It is FREE. You can register at the link below \n  \nTo Register and More Details: Click Here
URL:https://www.princewilliamdemocrats.com/event/2021-04-22-virginia-equality-18th-annual-virtual-commonwealth-dinner/
LOCATION:Virtual Event
CATEGORIES:Virginia Event
ATTACH;FMTTYPE=image/png:https://www.princewilliamdemocrats.com/wp-content/uploads/2021/03/2021-equality-virginia-annual-vritual-commonwealth-dinner.png
END:VEVENT
BEGIN:VEVENT
DTSTART;TZID=UTC:20210422T180000
DTEND;TZID=UTC:20210422T190000
DTSTAMP:20260423T010828
CREATED:20210419T024247Z
LAST-MODIFIED:20210419T024719Z
UID:10001084-1619114400-1619118000@www.princewilliamdemocrats.com
SUMMARY:The Hala Express Goes to Prince William County
DESCRIPTION:The Hala Express is stopping in Hala’s home turf–Prince William County! Join Deshundra Jefferson and Hala for a virtual Meet and Greet. Get the chance to hear why Deshundra is supporting Hala this year and why Hala wants to be your next Lt. Governor.\n\nThis event is open to the public and folks not from PWC are welcome to join!\n\nPlease use the Mobilize link to register\n\nFor More Details: Click Here
URL:https://www.princewilliamdemocrats.com/event/2021-04-22-6pm-the-hala-express-goes-to-prince-william-county/
LOCATION:Virtual Event
CATEGORIES:Prince William County Democratic Virtual Event
ATTACH;FMTTYPE=image/jpeg:https://www.princewilliamdemocrats.com/wp-content/uploads/2021/04/2021-the-hala-express-goes-to-prince-william-county.jpg
END:VEVENT
BEGIN:VEVENT
DTSTART;TZID=UTC:20210422T190000
DTEND;TZID=UTC:20210422T210000
DTSTAMP:20260423T010828
CREATED:20210420T204229Z
LAST-MODIFIED:20210420T204600Z
UID:10001086-1619118000-1619125200@www.princewilliamdemocrats.com
SUMMARY:PWC Democratic Monthly Meeting
DESCRIPTION:Please contact PWC Democratic Leadership for additional details.
URL:https://www.princewilliamdemocrats.com/event/2021-04-22-7pm-pwc-democratic-committee-monthly-meeting/
LOCATION:Virtual Event
CATEGORIES:Prince William County Democratic Event,Prince William County Democratic Virtual Event
ATTACH;FMTTYPE=image/jpeg:https://www.princewilliamdemocrats.com/wp-content/uploads/2021/02/democratic-monthly-meeting.jpg
END:VEVENT
END:VCALENDAR