BEGIN:VCALENDAR
VERSION:2.0
PRODID:-//Prince William County Democrats - ECPv6.15.20//NONSGML v1.0//EN
CALSCALE:GREGORIAN
METHOD:PUBLISH
X-ORIGINAL-URL:https://www.princewilliamdemocrats.com
X-WR-CALDESC:Events for Prince William County Democrats
REFRESH-INTERVAL;VALUE=DURATION:PT1H
X-Robots-Tag:noindex
X-PUBLISHED-TTL:PT1H
BEGIN:VTIMEZONE
TZID:UTC
BEGIN:STANDARD
TZOFFSETFROM:+0000
TZOFFSETTO:+0000
TZNAME:UTC
DTSTART:20200101T000000
END:STANDARD
END:VTIMEZONE
BEGIN:VEVENT
DTSTART;TZID=UTC:20210410T090000
DTEND;TZID=UTC:20210410T100000
DTSTAMP:20260423T021905
CREATED:20210407T173808Z
LAST-MODIFIED:20210407T173808Z
UID:10000938-1618045200-1618048800@www.princewilliamdemocrats.com
SUMMARY:Neabsco District Monthly Meeting
DESCRIPTION:Please contact Neabsco District Leadership for additional details.
URL:https://www.princewilliamdemocrats.com/event/2021-04-10-9am-neabsco-district-monthly-meeting/
CATEGORIES:District Meeting
ATTACH;FMTTYPE=image/jpeg:https://www.princewilliamdemocrats.com/wp-content/uploads/2021/02/democratic-monthly-meeting.jpg
END:VEVENT
BEGIN:VEVENT
DTSTART;TZID=UTC:20210410T093000
DTEND;TZID=UTC:20210410T103000
DTSTAMP:20260423T021905
CREATED:20210211T170113Z
LAST-MODIFIED:20210211T171039Z
UID:10001010-1618047000-1618050600@www.princewilliamdemocrats.com
SUMMARY:Coles District Monthly Meeting
DESCRIPTION:Please contact Coles District Leadership for additional details.
URL:https://www.princewilliamdemocrats.com/event/2021-04-10-930am-coles-district-monthly-meeting/
CATEGORIES:District Meeting
ATTACH;FMTTYPE=image/jpeg:https://www.princewilliamdemocrats.com/wp-content/uploads/2021/02/democratic-monthly-meeting.jpg
END:VEVENT
BEGIN:VEVENT
DTSTART;TZID=UTC:20210410T140000
DTEND;TZID=UTC:20210410T150000
DTSTAMP:20260423T021905
CREATED:20210323T223341Z
LAST-MODIFIED:20210323T223341Z
UID:10001068-1618063200-1618066800@www.princewilliamdemocrats.com
SUMMARY:Prince William Young Democrats Meeting
DESCRIPTION:Please contact Prince William Young Democrats Leadership for additional detail
URL:https://www.princewilliamdemocrats.com/event/2021-04-10-2pm-prince-william-young-democrats-meeting/
LOCATION:Virtual Event
CATEGORIES:Prince William Young Democrats Event
ATTACH;FMTTYPE=image/png:https://www.princewilliamdemocrats.com/wp-content/uploads/2021/01/prince-william-county-young-dems.png
END:VEVENT
END:VCALENDAR