BEGIN:VCALENDAR
VERSION:2.0
PRODID:-//Prince William County Democrats - ECPv6.15.20//NONSGML v1.0//EN
CALSCALE:GREGORIAN
METHOD:PUBLISH
X-WR-CALNAME:Prince William County Democrats
X-ORIGINAL-URL:https://www.princewilliamdemocrats.com
X-WR-CALDESC:Events for Prince William County Democrats
REFRESH-INTERVAL;VALUE=DURATION:PT1H
X-Robots-Tag:noindex
X-PUBLISHED-TTL:PT1H
BEGIN:VTIMEZONE
TZID:UTC
BEGIN:STANDARD
TZOFFSETFROM:+0000
TZOFFSETTO:+0000
TZNAME:UTC
DTSTART:20200101T000000
END:STANDARD
END:VTIMEZONE
BEGIN:VEVENT
DTSTART;TZID=UTC:20210324T180000
DTEND;TZID=UTC:20210324T200000
DTSTAMP:20260422T184046
CREATED:20210323T002059Z
LAST-MODIFIED:20210323T002639Z
UID:10001065-1616608800-1616616000@www.princewilliamdemocrats.com
SUMMARY:PWC - County’s Comprehensive Plan - Land Use and Housing Sections of Pathway to 2040
DESCRIPTION:Meeting Focus: Central portion of the County \nTo register for this meeting\, click this link: Click Here
URL:https://www.princewilliamdemocrats.com/event/2021-03-24-6pm-pwc-countys-comprehensive-plan-land-use-and-housing-sections-of-pathway-to-2040/
LOCATION:Virtual Event
CATEGORIES:Prince William County Event
ATTACH;FMTTYPE=image/jpeg:https://www.princewilliamdemocrats.com/wp-content/uploads/2021/03/prince-william-county.jpg
END:VEVENT
BEGIN:VEVENT
DTSTART;TZID=UTC:20210324T190000
DTEND;TZID=UTC:20210324T200000
DTSTAMP:20260422T184046
CREATED:20210322T224750Z
LAST-MODIFIED:20210322T224750Z
UID:10000925-1616612400-1616616000@www.princewilliamdemocrats.com
SUMMARY:Democratic Women's Caucus Monthly Meeting
DESCRIPTION:Please contact Democratic Women’s Caucus Leadership for additional detail \nZoom Meeting: Click Here
URL:https://www.princewilliamdemocrats.com/event/2021-03-24-7pm-democratic-womens-caucus-monthly-meeting/
LOCATION:Virtual Event
CATEGORIES:PWC Democratic Women's Event
ATTACH;FMTTYPE=image/jpeg:https://www.princewilliamdemocrats.com/wp-content/uploads/2021/02/prince-william-county-democratic-womens-caucus-e1613424539900.jpg
END:VEVENT
BEGIN:VEVENT
DTSTART;TZID=UTC:20210324T190000
DTEND;TZID=UTC:20210324T200000
DTSTAMP:20260422T184046
CREATED:20210323T003507Z
LAST-MODIFIED:20210323T003532Z
UID:10001067-1616612400-1616616000@www.princewilliamdemocrats.com
SUMMARY:Team Helen Zurita Campaign Kickoff
DESCRIPTION:Helen Zurita is running for Delegate in the HD 50\, and is on the ballot on June 8th. Now it’s time for Team Zurita to join together and push hard over the next three months to win the Democratic nomination! Helen will advocate for us\, just like she has for the last four years! \nTo Register and More Details: Click Here
URL:https://www.princewilliamdemocrats.com/event/2021-03-24-7pm-team-helen-zurita-campaign-kickoff/
LOCATION:Virtual Event
CATEGORIES:Prince William County Delegate Event
ATTACH;FMTTYPE=image/png:https://www.princewilliamdemocrats.com/wp-content/uploads/2021/03/cropped-helen-zurita.png
END:VEVENT
END:VCALENDAR