BEGIN:VCALENDAR
VERSION:2.0
PRODID:-//Prince William County Democrats - ECPv6.15.20//NONSGML v1.0//EN
CALSCALE:GREGORIAN
METHOD:PUBLISH
X-WR-CALNAME:Prince William County Democrats
X-ORIGINAL-URL:https://www.princewilliamdemocrats.com
X-WR-CALDESC:Events for Prince William County Democrats
REFRESH-INTERVAL;VALUE=DURATION:PT1H
X-Robots-Tag:noindex
X-PUBLISHED-TTL:PT1H
BEGIN:VTIMEZONE
TZID:UTC
BEGIN:STANDARD
TZOFFSETFROM:+0000
TZOFFSETTO:+0000
TZNAME:UTC
DTSTART:20200101T000000
END:STANDARD
END:VTIMEZONE
BEGIN:VEVENT
DTSTART;TZID=UTC:20210306T120000
DTEND;TZID=UTC:20210306T150000
DTSTAMP:20260422T184049
CREATED:20210305T150806Z
LAST-MODIFIED:20210305T150806Z
UID:10000909-1615032000-1615042800@www.princewilliamdemocrats.com
SUMMARY:Petition signatures for Helen Zurita for the 50th District
DESCRIPTION:For More Details: Click Here\n\n \n\nWe will be collecting petition signatures to get Helen Zurita who is running for the 50th district House Of Delegates on the ballot\n\n \n\nTime: 12pm – 3pm\n\n \n\nLocation: Outside of Jirani Coffeehouse
URL:https://www.princewilliamdemocrats.com/event/petition-signatures-for-helen-zurita-for-the-50th-district/
CATEGORIES:Prince William County Event
ATTACH;FMTTYPE=image/png:https://www.princewilliamdemocrats.com/wp-content/uploads/2021/03/helen-zurita.png
END:VEVENT
BEGIN:VEVENT
DTSTART;TZID=UTC:20210306T130000
DTEND;TZID=UTC:20210306T150000
DTSTAMP:20260422T184049
CREATED:20210306T140610Z
LAST-MODIFIED:20210306T140722Z
UID:10001039-1615035600-1615042800@www.princewilliamdemocrats.com
SUMMARY:Petition Drive-Thru 1pm-3pm
DESCRIPTION:Come join us in the drive-thru petition at Freedom Highschool
URL:https://www.princewilliamdemocrats.com/event/2021-03-06-1pm-petition-drive-thru-1pm-3pm/
LOCATION:Freedom High School\, 15201 Neabsco Mills Rd\, Woodbridge\, VA\, 22191\, United States
CATEGORIES:Prince William County Petition Event
ATTACH;FMTTYPE=image/jpeg:https://www.princewilliamdemocrats.com/wp-content/uploads/2021/03/2021-petition-drivethru-freedom-highschool-3-6-1pm.jpg
END:VEVENT
BEGIN:VEVENT
DTSTART;TZID=UTC:20210306T140000
DTEND;TZID=UTC:20210306T150000
DTSTAMP:20260422T184049
CREATED:20210304T163110Z
LAST-MODIFIED:20210304T163110Z
UID:10000908-1615039200-1615042800@www.princewilliamdemocrats.com
SUMMARY:Please join The Democratic Black Caucus of Virginia first virtual meeting of 2021
DESCRIPTION:Zoom Link: Click Here\n\n \n\nPlease join The Democratic Black Caucus of Virginia as we hold our first virtual meeting of 2021 on Saturday\, 6 MARCH at 2pm\, following the March Central Committee virtual meeting. Link information below.\n\n \n\nAt our meeting\, we will discuss our Juneteenth Celebration and planning for a Democratic Candidate Debate Forum with our DLOV and DAAV Caucuses partners.\n\n \n\nWe are also inviting our elected officials and candidates to join us and introduce themselves.\n\n \n\nPlease join us with your inspiring thoughts as we plan and set a strategy for 2021. Be ready to participate and be involved in our work! We have state elections and some local elections this year plus lots of other concerns to discuss.\n\n \n\nDemocratic Black Caucus of Virginia Meeting At 2:00pm- 3:30pm on March 6th at 2pm
URL:https://www.princewilliamdemocrats.com/event/please-join-the-democratic-black-caucus-of-virginia-first-virtual-meeting-of-2021/
LOCATION:Virtual Event
CATEGORIES:Democratic Black Caucus
ATTACH;FMTTYPE=image/png:https://www.princewilliamdemocrats.com/wp-content/uploads/2020/05/democratic-party-icon-sm.png
END:VEVENT
BEGIN:VEVENT
DTSTART;TZID=UTC:20210306T150000
DTEND;TZID=UTC:20210306T160000
DTSTAMP:20260422T184049
CREATED:20210306T143125Z
LAST-MODIFIED:20210306T143629Z
UID:10000911-1615042800-1615046400@www.princewilliamdemocrats.com
SUMMARY:Virtual Meet and Greet with Idris O'Connor
DESCRIPTION:Meet and Greet with Idris O’Connor with Montclair Democrats and Progressives \nfor More Details: Click Here
URL:https://www.princewilliamdemocrats.com/event/2021-06-3pm-virtual-meet-and-greet-with-idris-oconnor/
LOCATION:Virtual Event
CATEGORIES:Prince William County Democratic Virtual Event
ATTACH;FMTTYPE=image/jpeg:https://www.princewilliamdemocrats.com/wp-content/uploads/2021/03/2021-meet-and-greet-with-idris-oconnor.jpg
END:VEVENT
END:VCALENDAR