BEGIN:VCALENDAR
VERSION:2.0
PRODID:-//Prince William County Democrats - ECPv6.15.20//NONSGML v1.0//EN
CALSCALE:GREGORIAN
METHOD:PUBLISH
X-WR-CALNAME:Prince William County Democrats
X-ORIGINAL-URL:https://www.princewilliamdemocrats.com
X-WR-CALDESC:Events for Prince William County Democrats
REFRESH-INTERVAL;VALUE=DURATION:PT1H
X-Robots-Tag:noindex
X-PUBLISHED-TTL:PT1H
BEGIN:VTIMEZONE
TZID:UTC
BEGIN:STANDARD
TZOFFSETFROM:+0000
TZOFFSETTO:+0000
TZNAME:UTC
DTSTART:20190101T000000
END:STANDARD
END:VTIMEZONE
BEGIN:VEVENT
DTSTART;TZID=UTC:20201205T140000
DTEND;TZID=UTC:20201205T153000
DTSTAMP:20260423T001237
CREATED:20201222T035051Z
LAST-MODIFIED:20201222T035051Z
UID:10000956-1607176800-1607182200@www.princewilliamdemocrats.com
SUMMARY:Prince William County Young Democrats
DESCRIPTION:Online Event: Click Here
URL:https://www.princewilliamdemocrats.com/event/2020-12-05-prince-william-county-young-democrats/
CATEGORIES:Prince William County Democratic Virtual Event
ATTACH;FMTTYPE=image/jpeg:https://www.princewilliamdemocrats.com/wp-content/uploads/2020/12/2020-prince-william-young-democrats.jpg
END:VEVENT
END:VCALENDAR